BEGIN:VCALENDAR
VERSION:2.0
PRODID:-//National Tribal Air Association - ECPv6.15.20//NONSGML v1.0//EN
CALSCALE:GREGORIAN
METHOD:PUBLISH
X-WR-CALNAME:National Tribal Air Association
X-ORIGINAL-URL:https://www.ntaatribalair.org
X-WR-CALDESC:Events for National Tribal Air Association
REFRESH-INTERVAL;VALUE=DURATION:PT1H
X-Robots-Tag:noindex
X-PUBLISHED-TTL:PT1H
BEGIN:VTIMEZONE
TZID:America/Los_Angeles
BEGIN:DAYLIGHT
TZOFFSETFROM:-0800
TZOFFSETTO:-0700
TZNAME:PDT
DTSTART:20250309T100000
END:DAYLIGHT
BEGIN:STANDARD
TZOFFSETFROM:-0700
TZOFFSETTO:-0800
TZNAME:PST
DTSTART:20251102T090000
END:STANDARD
BEGIN:DAYLIGHT
TZOFFSETFROM:-0800
TZOFFSETTO:-0700
TZNAME:PDT
DTSTART:20260308T100000
END:DAYLIGHT
BEGIN:STANDARD
TZOFFSETFROM:-0700
TZOFFSETTO:-0800
TZNAME:PST
DTSTART:20261101T090000
END:STANDARD
BEGIN:DAYLIGHT
TZOFFSETFROM:-0800
TZOFFSETTO:-0700
TZNAME:PDT
DTSTART:20270314T100000
END:DAYLIGHT
BEGIN:STANDARD
TZOFFSETFROM:-0700
TZOFFSETTO:-0800
TZNAME:PST
DTSTART:20271107T090000
END:STANDARD
END:VTIMEZONE
BEGIN:VEVENT
DTSTART;TZID=America/Los_Angeles:20260521T110000
DTEND;TZID=America/Los_Angeles:20260521T130000
DTSTAMP:20260422T052254
CREATED:20251107T032256Z
LAST-MODIFIED:20251107T032256Z
UID:21069-1779361200-1779368400@www.ntaatribalair.org
SUMMARY:Alaska Tribal Air Workgroup
DESCRIPTION:The NTAA Alaska Air Workgroup supports Tribes and Villages by sharing important information/updates on air topics specific to the Alaska region.  Time is set aside for questions and requests for the next meeting. \n10am-12pm Alaska \nZoom link
URL:https://www.ntaatribalair.org/event/alaska-tribal-air-workgroup-4/
CATEGORIES:Alaska Air Workgroup
END:VEVENT
BEGIN:VEVENT
DTSTART;TZID=America/Los_Angeles:20260521T110000
DTEND;TZID=America/Los_Angeles:20260521T130000
DTSTAMP:20260422T052254
CREATED:20251107T032320Z
LAST-MODIFIED:20251107T032320Z
UID:21070-1779361200-1779368400@www.ntaatribalair.org
SUMMARY:Alaska Tribal Air Workgroup
DESCRIPTION:The NTAA Alaska Air Workgroup supports Tribes and Villages by sharing important information/updates on air topics specific to the Alaska region.  Time is set aside for questions and requests for the next meeting. \n10am-12pm Alaska \nZoom link
URL:https://www.ntaatribalair.org/event/alaska-tribal-air-workgroup-5/
CATEGORIES:Alaska Air Workgroup
END:VEVENT
END:VCALENDAR