BEGIN:VCALENDAR
VERSION:2.0
PRODID:-//National Tribal Air Association - ECPv6.15.20//NONSGML v1.0//EN
CALSCALE:GREGORIAN
METHOD:PUBLISH
X-WR-CALNAME:National Tribal Air Association
X-ORIGINAL-URL:https://www.ntaatribalair.org
X-WR-CALDESC:Events for National Tribal Air Association
REFRESH-INTERVAL;VALUE=DURATION:PT1H
X-Robots-Tag:noindex
X-PUBLISHED-TTL:PT1H
BEGIN:VTIMEZONE
TZID:America/Phoenix
BEGIN:STANDARD
TZOFFSETFROM:-0700
TZOFFSETTO:-0700
TZNAME:MST
DTSTART:20250101T000000
END:STANDARD
END:VTIMEZONE
BEGIN:VEVENT
DTSTART;TZID=America/Phoenix:20260427T080000
DTEND;TZID=America/Phoenix:20260501T170000
DTSTAMP:20260422T040237
CREATED:20260403T205602Z
LAST-MODIFIED:20260403T205602Z
UID:22239-1777276800-1777654800@www.ntaatribalair.org
SUMMARY:National Tribal Forum on Air Quality
DESCRIPTION:
URL:https://www.ntaatribalair.org/event/national-tribal-forum-on-air-quality/
LOCATION:Tulalip Resort and Casino\, 10200 Quil Ceda Blvd.\, Tulalip\, WA\, 98271\, United States
CATEGORIES:NTFAQ
END:VEVENT
END:VCALENDAR