BEGIN:VCALENDAR
VERSION:2.0
PRODID:-//National Tribal Air Association - ECPv6.15.20//NONSGML v1.0//EN
CALSCALE:GREGORIAN
METHOD:PUBLISH
X-WR-CALNAME:National Tribal Air Association
X-ORIGINAL-URL:https://www.ntaatribalair.org
X-WR-CALDESC:Events for National Tribal Air Association
REFRESH-INTERVAL;VALUE=DURATION:PT1H
X-Robots-Tag:noindex
X-PUBLISHED-TTL:PT1H
BEGIN:VTIMEZONE
TZID:America/Los_Angeles
BEGIN:DAYLIGHT
TZOFFSETFROM:-0800
TZOFFSETTO:-0700
TZNAME:PDT
DTSTART:20240310T100000
END:DAYLIGHT
BEGIN:STANDARD
TZOFFSETFROM:-0700
TZOFFSETTO:-0800
TZNAME:PST
DTSTART:20241103T090000
END:STANDARD
BEGIN:DAYLIGHT
TZOFFSETFROM:-0800
TZOFFSETTO:-0700
TZNAME:PDT
DTSTART:20250309T100000
END:DAYLIGHT
BEGIN:STANDARD
TZOFFSETFROM:-0700
TZOFFSETTO:-0800
TZNAME:PST
DTSTART:20251102T090000
END:STANDARD
BEGIN:DAYLIGHT
TZOFFSETFROM:-0800
TZOFFSETTO:-0700
TZNAME:PDT
DTSTART:20260308T100000
END:DAYLIGHT
BEGIN:STANDARD
TZOFFSETFROM:-0700
TZOFFSETTO:-0800
TZNAME:PST
DTSTART:20261101T090000
END:STANDARD
END:VTIMEZONE
BEGIN:VEVENT
DTSTART;TZID=America/Los_Angeles:20251110T110000
DTEND;TZID=America/Los_Angeles:20251110T130000
DTSTAMP:20260420T094850
CREATED:20251106T192550Z
LAST-MODIFIED:20251107T032527Z
UID:20936-1762772400-1762779600@www.ntaatribalair.org
SUMMARY:NTAA Executive Committee Call
DESCRIPTION:NTAA Monthly Call with the NTAA Executive Committee\, NTAA Program Manager\, NTAA Program Coordinator and EPA. Closed meeting.
URL:https://www.ntaatribalair.org/event/ntaa-executive-committee-call/
CATEGORIES:Executive Committee
END:VEVENT
BEGIN:VEVENT
DTSTART;TZID=America/Los_Angeles:20251106T130000
DTEND;TZID=America/Los_Angeles:20251106T140000
DTSTAMP:20260420T094850
CREATED:20251107T031534Z
LAST-MODIFIED:20251107T031605Z
UID:21047-1762434000-1762437600@www.ntaatribalair.org
SUMMARY:Wildfire/Wood Smoke Workgroup
DESCRIPTION:The NTAA Wildfire/Wood Smoke Workgroup supports Tribes and Villages by sharing important information/updates on indoor and outdoor air topics specific to the warmer and cooler months.  \nFall/winter months – Wood Smoke Workgroup \nSpring/Summer months – Wildfire Workgroup \nZoom link
URL:https://www.ntaatribalair.org/event/wildfire-wood-smoke-workgroup/
CATEGORIES:Wildfire/Wood Smoke Workgroup
END:VEVENT
END:VCALENDAR